BEGIN:VCALENDAR
VERSION:2.0
PRODID:-//Proline Archery Lanes - ECPv6.15.20//NONSGML v1.0//EN
CALSCALE:GREGORIAN
METHOD:PUBLISH
X-WR-CALNAME:Proline Archery Lanes
X-ORIGINAL-URL:https://prolinearchery.com
X-WR-CALDESC:Events for Proline Archery Lanes
REFRESH-INTERVAL;VALUE=DURATION:PT1H
X-Robots-Tag:noindex
X-PUBLISHED-TTL:PT1H
BEGIN:VTIMEZONE
TZID:America/New_York
BEGIN:DAYLIGHT
TZOFFSETFROM:-0500
TZOFFSETTO:-0400
TZNAME:EDT
DTSTART:20230312T070000
END:DAYLIGHT
BEGIN:STANDARD
TZOFFSETFROM:-0400
TZOFFSETTO:-0500
TZNAME:EST
DTSTART:20231105T060000
END:STANDARD
BEGIN:DAYLIGHT
TZOFFSETFROM:-0500
TZOFFSETTO:-0400
TZNAME:EDT
DTSTART:20240310T070000
END:DAYLIGHT
BEGIN:STANDARD
TZOFFSETFROM:-0400
TZOFFSETTO:-0500
TZNAME:EST
DTSTART:20241103T060000
END:STANDARD
BEGIN:DAYLIGHT
TZOFFSETFROM:-0500
TZOFFSETTO:-0400
TZNAME:EDT
DTSTART:20250309T070000
END:DAYLIGHT
BEGIN:STANDARD
TZOFFSETFROM:-0400
TZOFFSETTO:-0500
TZNAME:EST
DTSTART:20251102T060000
END:STANDARD
END:VTIMEZONE
BEGIN:VEVENT
DTSTART;TZID=America/New_York:20240303T140000
DTEND;TZID=America/New_York:20240303T180000
DTSTAMP:20260421T230041
CREATED:20240123T223220Z
LAST-MODIFIED:20240123T235143Z
UID:10000159-1709474400-1709488800@prolinearchery.com
SUMMARY:NFAA Mid-Atlantic Sectionals
DESCRIPTION:MID-ATLANTIC INDOOR SECTIONALS 2024 – PRO LINE ARCHERY LANES\n\n\n\n\n\nAbout the Event\nEvent format consists of the best of one or two NFAA 300 blue/white rounds. Line times are 2:00 pm and 6:30 pm on Sunday. Contact the Event Organizer to confirm your shooting time\, event format details\, and with any other event questions. \nThe Early Registration Deadline is 3 calendar days prior to the first day of competition. A $15 late fee will apply after this deadline. All cancellation requests must be received in writing on or before the Early Registration Deadline and will be charged a $15 administration fee. After the Early Registration Deadline\, no refunds will be issued for cancellations due to scheduling conflicts\, weather\, illness\, or other personal issues. \nClick here to download the NFAA Quick Guide to Age Divisions & Shooting Styles \n\n\n\nRegistration is available on the NFAA Website. \nhttps://nfaausa.com/events/event-information/37939
URL:https://prolinearchery.com/event/nfaa-mid-atlantic-sectionals/
CATEGORIES:Tournament
END:VEVENT
END:VCALENDAR