BEGIN:VCALENDAR
VERSION:2.0
PRODID:-//Proline Archery Lanes - ECPv6.15.20//NONSGML v1.0//EN
CALSCALE:GREGORIAN
METHOD:PUBLISH
X-WR-CALNAME:Proline Archery Lanes
X-ORIGINAL-URL:https://prolinearchery.com
X-WR-CALDESC:Events for Proline Archery Lanes
REFRESH-INTERVAL;VALUE=DURATION:PT1H
X-Robots-Tag:noindex
X-PUBLISHED-TTL:PT1H
BEGIN:VTIMEZONE
TZID:America/New_York
BEGIN:DAYLIGHT
TZOFFSETFROM:-0500
TZOFFSETTO:-0400
TZNAME:EDT
DTSTART:20230312T070000
END:DAYLIGHT
BEGIN:STANDARD
TZOFFSETFROM:-0400
TZOFFSETTO:-0500
TZNAME:EST
DTSTART:20231105T060000
END:STANDARD
BEGIN:DAYLIGHT
TZOFFSETFROM:-0500
TZOFFSETTO:-0400
TZNAME:EDT
DTSTART:20240310T070000
END:DAYLIGHT
BEGIN:STANDARD
TZOFFSETFROM:-0400
TZOFFSETTO:-0500
TZNAME:EST
DTSTART:20241103T060000
END:STANDARD
BEGIN:DAYLIGHT
TZOFFSETFROM:-0500
TZOFFSETTO:-0400
TZNAME:EDT
DTSTART:20250309T070000
END:DAYLIGHT
BEGIN:STANDARD
TZOFFSETFROM:-0400
TZOFFSETTO:-0500
TZNAME:EST
DTSTART:20251102T060000
END:STANDARD
END:VTIMEZONE
BEGIN:VEVENT
DTSTART;VALUE=DATE:20240704
DTEND;VALUE=DATE:20240705
DTSTAMP:20260421T232155
CREATED:20240626T223011Z
LAST-MODIFIED:20240626T223028Z
UID:10000265-1720051200-1720137599@prolinearchery.com
SUMMARY:July 4th Range Closed
DESCRIPTION:The archery range and pro-shop will be closed on the 4th July. \nHappy Birthday America.
URL:https://prolinearchery.com/event/july-4th-range-closed/
CATEGORIES:Range Closed
END:VEVENT
BEGIN:VEVENT
DTSTART;VALUE=DATE:20240721
DTEND;VALUE=DATE:20240722
DTSTAMP:20260421T232155
CREATED:20240708T215833Z
LAST-MODIFIED:20240708T215833Z
UID:10000266-1721520000-1721606399@prolinearchery.com
SUMMARY:Range Closed
DESCRIPTION:The range and pro-shop will be closed Sunday July 21th.
URL:https://prolinearchery.com/event/range-closed-6/
CATEGORIES:Range Closed
END:VEVENT
END:VCALENDAR