BEGIN:VCALENDAR
VERSION:2.0
PRODID:-//Proline Archery Lanes - ECPv6.15.20//NONSGML v1.0//EN
CALSCALE:GREGORIAN
METHOD:PUBLISH
X-WR-CALNAME:Proline Archery Lanes
X-ORIGINAL-URL:https://prolinearchery.com
X-WR-CALDESC:Events for Proline Archery Lanes
REFRESH-INTERVAL;VALUE=DURATION:PT1H
X-Robots-Tag:noindex
X-PUBLISHED-TTL:PT1H
BEGIN:VTIMEZONE
TZID:America/New_York
BEGIN:DAYLIGHT
TZOFFSETFROM:-0500
TZOFFSETTO:-0400
TZNAME:EDT
DTSTART:20220313T070000
END:DAYLIGHT
BEGIN:STANDARD
TZOFFSETFROM:-0400
TZOFFSETTO:-0500
TZNAME:EST
DTSTART:20221106T060000
END:STANDARD
BEGIN:DAYLIGHT
TZOFFSETFROM:-0500
TZOFFSETTO:-0400
TZNAME:EDT
DTSTART:20230312T070000
END:DAYLIGHT
BEGIN:STANDARD
TZOFFSETFROM:-0400
TZOFFSETTO:-0500
TZNAME:EST
DTSTART:20231105T060000
END:STANDARD
BEGIN:DAYLIGHT
TZOFFSETFROM:-0500
TZOFFSETTO:-0400
TZNAME:EDT
DTSTART:20240310T070000
END:DAYLIGHT
BEGIN:STANDARD
TZOFFSETFROM:-0400
TZOFFSETTO:-0500
TZNAME:EST
DTSTART:20241103T060000
END:STANDARD
END:VTIMEZONE
BEGIN:VEVENT
DTSTART;TZID=America/New_York:20231005T200000
DTEND;TZID=America/New_York:20231005T220000
DTSTAMP:20260421T060605
CREATED:20231130T005731Z
LAST-MODIFIED:20231130T010110Z
UID:10000075-1696536000-1696543200@prolinearchery.com
SUMMARY:Target League
DESCRIPTION:
URL:https://prolinearchery.com/event/target-league-14/2023-10-05/
LOCATION:ProLine Archery Range\, 95-11 101 Ave\, Ozone Park\, NY\, 11416\, United States
CATEGORIES:Target League
END:VEVENT
BEGIN:VEVENT
DTSTART;TZID=America/New_York:20231007T180000
DTEND;TZID=America/New_York:20231007T200000
DTSTAMP:20260421T060605
CREATED:20231130T011319Z
LAST-MODIFIED:20231130T011520Z
UID:10000121-1696701600-1696708800@prolinearchery.com
SUMMARY:Target League
DESCRIPTION:
URL:https://prolinearchery.com/event/target-league-19/2023-10-07/
LOCATION:ProLine Archery Range\, 95-11 101 Ave\, Ozone Park\, NY\, 11416\, United States
CATEGORIES:Target League
END:VEVENT
BEGIN:VEVENT
DTSTART;TZID=America/New_York:20231012T200000
DTEND;TZID=America/New_York:20231012T220000
DTSTAMP:20260421T060605
CREATED:20231130T005731Z
LAST-MODIFIED:20231130T010110Z
UID:10000076-1697140800-1697148000@prolinearchery.com
SUMMARY:Target League
DESCRIPTION:
URL:https://prolinearchery.com/event/target-league-14/2023-10-12/
LOCATION:ProLine Archery Range\, 95-11 101 Ave\, Ozone Park\, NY\, 11416\, United States
CATEGORIES:Target League
END:VEVENT
BEGIN:VEVENT
DTSTART;TZID=America/New_York:20231014T180000
DTEND;TZID=America/New_York:20231014T200000
DTSTAMP:20260421T060605
CREATED:20231130T011319Z
LAST-MODIFIED:20231130T011520Z
UID:10000122-1697306400-1697313600@prolinearchery.com
SUMMARY:Target League
DESCRIPTION:
URL:https://prolinearchery.com/event/target-league-19/2023-10-14/
LOCATION:ProLine Archery Range\, 95-11 101 Ave\, Ozone Park\, NY\, 11416\, United States
CATEGORIES:Target League
END:VEVENT
BEGIN:VEVENT
DTSTART;TZID=America/New_York:20231019T200000
DTEND;TZID=America/New_York:20231019T220000
DTSTAMP:20260421T060605
CREATED:20231130T005731Z
LAST-MODIFIED:20231130T010110Z
UID:10000077-1697745600-1697752800@prolinearchery.com
SUMMARY:Target League
DESCRIPTION:
URL:https://prolinearchery.com/event/target-league-14/2023-10-19/
LOCATION:ProLine Archery Range\, 95-11 101 Ave\, Ozone Park\, NY\, 11416\, United States
CATEGORIES:Target League
END:VEVENT
BEGIN:VEVENT
DTSTART;TZID=America/New_York:20231021T180000
DTEND;TZID=America/New_York:20231021T200000
DTSTAMP:20260421T060605
CREATED:20231130T011319Z
LAST-MODIFIED:20231130T011520Z
UID:10000123-1697911200-1697918400@prolinearchery.com
SUMMARY:Target League
DESCRIPTION:
URL:https://prolinearchery.com/event/target-league-19/2023-10-21/
LOCATION:ProLine Archery Range\, 95-11 101 Ave\, Ozone Park\, NY\, 11416\, United States
CATEGORIES:Target League
END:VEVENT
BEGIN:VEVENT
DTSTART;TZID=America/New_York:20231026T200000
DTEND;TZID=America/New_York:20231026T220000
DTSTAMP:20260421T060605
CREATED:20231130T005731Z
LAST-MODIFIED:20231130T010110Z
UID:10000078-1698350400-1698357600@prolinearchery.com
SUMMARY:Target League
DESCRIPTION:
URL:https://prolinearchery.com/event/target-league-14/2023-10-26/
LOCATION:ProLine Archery Range\, 95-11 101 Ave\, Ozone Park\, NY\, 11416\, United States
CATEGORIES:Target League
END:VEVENT
BEGIN:VEVENT
DTSTART;TZID=America/New_York:20231028T180000
DTEND;TZID=America/New_York:20231028T200000
DTSTAMP:20260421T060605
CREATED:20231130T011319Z
LAST-MODIFIED:20231130T011520Z
UID:10000124-1698516000-1698523200@prolinearchery.com
SUMMARY:Target League
DESCRIPTION:
URL:https://prolinearchery.com/event/target-league-19/2023-10-28/
LOCATION:ProLine Archery Range\, 95-11 101 Ave\, Ozone Park\, NY\, 11416\, United States
CATEGORIES:Target League
END:VEVENT
END:VCALENDAR