BEGIN:VCALENDAR
VERSION:2.0
PRODID:-//Proline Archery Lanes - ECPv6.15.20//NONSGML v1.0//EN
CALSCALE:GREGORIAN
METHOD:PUBLISH
X-ORIGINAL-URL:https://prolinearchery.com
X-WR-CALDESC:Events for Proline Archery Lanes
REFRESH-INTERVAL;VALUE=DURATION:PT1H
X-Robots-Tag:noindex
X-PUBLISHED-TTL:PT1H
BEGIN:VTIMEZONE
TZID:America/New_York
BEGIN:DAYLIGHT
TZOFFSETFROM:-0500
TZOFFSETTO:-0400
TZNAME:EDT
DTSTART:20220313T070000
END:DAYLIGHT
BEGIN:STANDARD
TZOFFSETFROM:-0400
TZOFFSETTO:-0500
TZNAME:EST
DTSTART:20221106T060000
END:STANDARD
BEGIN:DAYLIGHT
TZOFFSETFROM:-0500
TZOFFSETTO:-0400
TZNAME:EDT
DTSTART:20230312T070000
END:DAYLIGHT
BEGIN:STANDARD
TZOFFSETFROM:-0400
TZOFFSETTO:-0500
TZNAME:EST
DTSTART:20231105T060000
END:STANDARD
BEGIN:DAYLIGHT
TZOFFSETFROM:-0500
TZOFFSETTO:-0400
TZNAME:EDT
DTSTART:20240310T070000
END:DAYLIGHT
BEGIN:STANDARD
TZOFFSETFROM:-0400
TZOFFSETTO:-0500
TZNAME:EST
DTSTART:20241103T060000
END:STANDARD
END:VTIMEZONE
BEGIN:VEVENT
DTSTART;TZID=America/New_York:20230803T200000
DTEND;TZID=America/New_York:20230803T220000
DTSTAMP:20260421T093440
CREATED:20230211T012842Z
LAST-MODIFIED:20230729T172331Z
UID:10000002-1691092800-1691100000@prolinearchery.com
SUMMARY:Target League
DESCRIPTION:
URL:https://prolinearchery.com/event/target-league/
LOCATION:ProLine Archery Range\, 95-11 101 Ave\, Ozone Park\, NY\, 11416\, United States
CATEGORIES:Target League
END:VEVENT
BEGIN:VEVENT
DTSTART;TZID=America/New_York:20230805T180000
DTEND;TZID=America/New_York:20230805T200000
DTSTAMP:20260421T093440
CREATED:20230729T172818Z
LAST-MODIFIED:20230729T181244Z
UID:10000003-1691258400-1691265600@prolinearchery.com
SUMMARY:Target League
DESCRIPTION:
URL:https://prolinearchery.com/event/target-league-2/
LOCATION:ProLine Archery Range\, 95-11 101 Ave\, Ozone Park\, NY\, 11416\, United States
CATEGORIES:Target League
END:VEVENT
BEGIN:VEVENT
DTSTART;TZID=America/New_York:20230810T200000
DTEND;TZID=America/New_York:20230810T220000
DTSTAMP:20260421T093440
CREATED:20230729T181055Z
LAST-MODIFIED:20230729T181055Z
UID:10000013-1691697600-1691704800@prolinearchery.com
SUMMARY:Target League
DESCRIPTION:
URL:https://prolinearchery.com/event/target-league-3/
LOCATION:ProLine Archery Range\, 95-11 101 Ave\, Ozone Park\, NY\, 11416\, United States
CATEGORIES:Target League
END:VEVENT
BEGIN:VEVENT
DTSTART;TZID=America/New_York:20230812T180000
DTEND;TZID=America/New_York:20230812T200000
DTSTAMP:20260421T093440
CREATED:20230729T181305Z
LAST-MODIFIED:20230729T181305Z
UID:10000017-1691863200-1691870400@prolinearchery.com
SUMMARY:Target League
DESCRIPTION:
URL:https://prolinearchery.com/event/target-league-7/
LOCATION:ProLine Archery Range\, 95-11 101 Ave\, Ozone Park\, NY\, 11416\, United States
CATEGORIES:Target League
END:VEVENT
BEGIN:VEVENT
DTSTART;TZID=America/New_York:20230817T200000
DTEND;TZID=America/New_York:20230817T220000
DTSTAMP:20260421T093440
CREATED:20230729T181115Z
LAST-MODIFIED:20230729T181115Z
UID:10000014-1692302400-1692309600@prolinearchery.com
SUMMARY:Target League
DESCRIPTION:
URL:https://prolinearchery.com/event/target-league-4/
LOCATION:ProLine Archery Range\, 95-11 101 Ave\, Ozone Park\, NY\, 11416\, United States
CATEGORIES:Target League
END:VEVENT
BEGIN:VEVENT
DTSTART;TZID=America/New_York:20230819T180000
DTEND;TZID=America/New_York:20230819T200000
DTSTAMP:20260421T093440
CREATED:20230729T181331Z
LAST-MODIFIED:20230729T181331Z
UID:10000018-1692468000-1692475200@prolinearchery.com
SUMMARY:Target League
DESCRIPTION:
URL:https://prolinearchery.com/event/target-league-8/
LOCATION:ProLine Archery Range\, 95-11 101 Ave\, Ozone Park\, NY\, 11416\, United States
CATEGORIES:Target League
END:VEVENT
BEGIN:VEVENT
DTSTART;TZID=America/New_York:20230824T200000
DTEND;TZID=America/New_York:20230824T220000
DTSTAMP:20260421T093440
CREATED:20230729T181141Z
LAST-MODIFIED:20230729T181141Z
UID:10000015-1692907200-1692914400@prolinearchery.com
SUMMARY:Target League
DESCRIPTION:
URL:https://prolinearchery.com/event/target-league-5/
LOCATION:ProLine Archery Range\, 95-11 101 Ave\, Ozone Park\, NY\, 11416\, United States
CATEGORIES:Target League
END:VEVENT
BEGIN:VEVENT
DTSTART;TZID=America/New_York:20230826T180000
DTEND;TZID=America/New_York:20230826T200000
DTSTAMP:20260421T093440
CREATED:20230729T181400Z
LAST-MODIFIED:20230729T181400Z
UID:10000019-1693072800-1693080000@prolinearchery.com
SUMMARY:Target League
DESCRIPTION:
URL:https://prolinearchery.com/event/target-league-9/
LOCATION:ProLine Archery Range\, 95-11 101 Ave\, Ozone Park\, NY\, 11416\, United States
CATEGORIES:Target League
END:VEVENT
BEGIN:VEVENT
DTSTART;TZID=America/New_York:20230831T200000
DTEND;TZID=America/New_York:20230831T220000
DTSTAMP:20260421T093440
CREATED:20230729T181204Z
LAST-MODIFIED:20230729T181204Z
UID:10000016-1693512000-1693519200@prolinearchery.com
SUMMARY:Target League
DESCRIPTION:
URL:https://prolinearchery.com/event/target-league-6/
LOCATION:ProLine Archery Range\, 95-11 101 Ave\, Ozone Park\, NY\, 11416\, United States
CATEGORIES:Target League
END:VEVENT
END:VCALENDAR