BEGIN:VCALENDAR
VERSION:2.0
PRODID:-//Proline Archery Lanes - ECPv6.15.20//NONSGML v1.0//EN
CALSCALE:GREGORIAN
METHOD:PUBLISH
X-WR-CALNAME:Proline Archery Lanes
X-ORIGINAL-URL:https://prolinearchery.com
X-WR-CALDESC:Events for Proline Archery Lanes
REFRESH-INTERVAL;VALUE=DURATION:PT1H
X-Robots-Tag:noindex
X-PUBLISHED-TTL:PT1H
BEGIN:VTIMEZONE
TZID:America/New_York
BEGIN:DAYLIGHT
TZOFFSETFROM:-0500
TZOFFSETTO:-0400
TZNAME:EDT
DTSTART:20230312T070000
END:DAYLIGHT
BEGIN:STANDARD
TZOFFSETFROM:-0400
TZOFFSETTO:-0500
TZNAME:EST
DTSTART:20231105T060000
END:STANDARD
BEGIN:DAYLIGHT
TZOFFSETFROM:-0500
TZOFFSETTO:-0400
TZNAME:EDT
DTSTART:20240310T070000
END:DAYLIGHT
BEGIN:STANDARD
TZOFFSETFROM:-0400
TZOFFSETTO:-0500
TZNAME:EST
DTSTART:20241103T060000
END:STANDARD
BEGIN:DAYLIGHT
TZOFFSETFROM:-0500
TZOFFSETTO:-0400
TZNAME:EDT
DTSTART:20250309T070000
END:DAYLIGHT
BEGIN:STANDARD
TZOFFSETFROM:-0400
TZOFFSETTO:-0500
TZNAME:EST
DTSTART:20251102T060000
END:STANDARD
END:VTIMEZONE
BEGIN:VEVENT
DTSTART;TZID=America/New_York:20240305T200000
DTEND;TZID=America/New_York:20240305T220000
DTSTAMP:20260422T115625
CREATED:20240116T224320Z
LAST-MODIFIED:20240206T181036Z
UID:10000151-1709668800-1709676000@prolinearchery.com
SUMMARY:Hunting League
DESCRIPTION:Our winter hunting leagues runs on Tuesday nights starting 8:00pm. \nThe league shoots on a variety of paper animal targets shot from different distances and positions. \nThere are 6 teams with 3 to 5 shooters. \nThe scoring is handicap so any skill level can participate.
URL:https://prolinearchery.com/event/hunting-league/2024-03-05/
LOCATION:ProLine Archery Range\, 95-11 101 Ave\, Ozone Park\, NY\, 11416\, United States
CATEGORIES:Hunter League
END:VEVENT
BEGIN:VEVENT
DTSTART;TZID=America/New_York:20240312T200000
DTEND;TZID=America/New_York:20240312T220000
DTSTAMP:20260422T115625
CREATED:20240116T224320Z
LAST-MODIFIED:20240206T181036Z
UID:10000152-1710273600-1710280800@prolinearchery.com
SUMMARY:Hunting League
DESCRIPTION:Our winter hunting leagues runs on Tuesday nights starting 8:00pm. \nThe league shoots on a variety of paper animal targets shot from different distances and positions. \nThere are 6 teams with 3 to 5 shooters. \nThe scoring is handicap so any skill level can participate.
URL:https://prolinearchery.com/event/hunting-league/2024-03-12/
LOCATION:ProLine Archery Range\, 95-11 101 Ave\, Ozone Park\, NY\, 11416\, United States
CATEGORIES:Hunter League
END:VEVENT
BEGIN:VEVENT
DTSTART;TZID=America/New_York:20240319T200000
DTEND;TZID=America/New_York:20240319T220000
DTSTAMP:20260422T115625
CREATED:20240116T224320Z
LAST-MODIFIED:20240206T181036Z
UID:10000153-1710878400-1710885600@prolinearchery.com
SUMMARY:Hunting League
DESCRIPTION:Our winter hunting leagues runs on Tuesday nights starting 8:00pm. \nThe league shoots on a variety of paper animal targets shot from different distances and positions. \nThere are 6 teams with 3 to 5 shooters. \nThe scoring is handicap so any skill level can participate.
URL:https://prolinearchery.com/event/hunting-league/2024-03-19/
LOCATION:ProLine Archery Range\, 95-11 101 Ave\, Ozone Park\, NY\, 11416\, United States
CATEGORIES:Hunter League
END:VEVENT
BEGIN:VEVENT
DTSTART;TZID=America/New_York:20240326T200000
DTEND;TZID=America/New_York:20240326T220000
DTSTAMP:20260422T115625
CREATED:20240116T224320Z
LAST-MODIFIED:20240206T181036Z
UID:10000154-1711483200-1711490400@prolinearchery.com
SUMMARY:Hunting League
DESCRIPTION:Our winter hunting leagues runs on Tuesday nights starting 8:00pm. \nThe league shoots on a variety of paper animal targets shot from different distances and positions. \nThere are 6 teams with 3 to 5 shooters. \nThe scoring is handicap so any skill level can participate.
URL:https://prolinearchery.com/event/hunting-league/2024-03-26/
LOCATION:ProLine Archery Range\, 95-11 101 Ave\, Ozone Park\, NY\, 11416\, United States
CATEGORIES:Hunter League
END:VEVENT
END:VCALENDAR