BEGIN:VCALENDAR
VERSION:2.0
PRODID:-//Proline Archery Lanes - ECPv6.15.20//NONSGML v1.0//EN
CALSCALE:GREGORIAN
METHOD:PUBLISH
X-ORIGINAL-URL:https://prolinearchery.com
X-WR-CALDESC:Events for Proline Archery Lanes
REFRESH-INTERVAL;VALUE=DURATION:PT1H
X-Robots-Tag:noindex
X-PUBLISHED-TTL:PT1H
BEGIN:VTIMEZONE
TZID:America/New_York
BEGIN:DAYLIGHT
TZOFFSETFROM:-0500
TZOFFSETTO:-0400
TZNAME:EDT
DTSTART:20220313T070000
END:DAYLIGHT
BEGIN:STANDARD
TZOFFSETFROM:-0400
TZOFFSETTO:-0500
TZNAME:EST
DTSTART:20221106T060000
END:STANDARD
BEGIN:DAYLIGHT
TZOFFSETFROM:-0500
TZOFFSETTO:-0400
TZNAME:EDT
DTSTART:20230312T070000
END:DAYLIGHT
BEGIN:STANDARD
TZOFFSETFROM:-0400
TZOFFSETTO:-0500
TZNAME:EST
DTSTART:20231105T060000
END:STANDARD
BEGIN:DAYLIGHT
TZOFFSETFROM:-0500
TZOFFSETTO:-0400
TZNAME:EDT
DTSTART:20240310T070000
END:DAYLIGHT
BEGIN:STANDARD
TZOFFSETFROM:-0400
TZOFFSETTO:-0500
TZNAME:EST
DTSTART:20241103T060000
END:STANDARD
END:VTIMEZONE
BEGIN:VEVENT
DTSTART;TZID=America/New_York:20230905T200000
DTEND;TZID=America/New_York:20230905T220000
DTSTAMP:20260422T222015
CREATED:20230729T180832Z
LAST-MODIFIED:20230729T180832Z
UID:10000009-1693944000-1693951200@prolinearchery.com
SUMMARY:Hunter League
DESCRIPTION:
URL:https://prolinearchery.com/event/hunter-league-6/
LOCATION:ProLine Archery Range\, 95-11 101 Ave\, Ozone Park\, NY\, 11416\, United States
CATEGORIES:Hunter League
END:VEVENT
BEGIN:VEVENT
DTSTART;TZID=America/New_York:20230912T200000
DTEND;TZID=America/New_York:20230912T220000
DTSTAMP:20260422T222015
CREATED:20230729T180857Z
LAST-MODIFIED:20230729T180857Z
UID:10000010-1694548800-1694556000@prolinearchery.com
SUMMARY:Hunter League
DESCRIPTION:
URL:https://prolinearchery.com/event/hunter-league-7/
LOCATION:ProLine Archery Range\, 95-11 101 Ave\, Ozone Park\, NY\, 11416\, United States
CATEGORIES:Hunter League
END:VEVENT
BEGIN:VEVENT
DTSTART;TZID=America/New_York:20230919T200000
DTEND;TZID=America/New_York:20230919T220000
DTSTAMP:20260422T222015
CREATED:20230729T180914Z
LAST-MODIFIED:20230729T180914Z
UID:10000011-1695153600-1695160800@prolinearchery.com
SUMMARY:Hunter League
DESCRIPTION:
URL:https://prolinearchery.com/event/hunter-league-8/
LOCATION:ProLine Archery Range\, 95-11 101 Ave\, Ozone Park\, NY\, 11416\, United States
CATEGORIES:Hunter League
END:VEVENT
BEGIN:VEVENT
DTSTART;TZID=America/New_York:20230926T200000
DTEND;TZID=America/New_York:20230926T220000
DTSTAMP:20260422T222015
CREATED:20230729T180941Z
LAST-MODIFIED:20230729T180941Z
UID:10000012-1695758400-1695765600@prolinearchery.com
SUMMARY:Hunter League
DESCRIPTION:
URL:https://prolinearchery.com/event/hunter-league-9/
LOCATION:ProLine Archery Range\, 95-11 101 Ave\, Ozone Park\, NY\, 11416\, United States
CATEGORIES:Hunter League
END:VEVENT
END:VCALENDAR