BEGIN:VCALENDAR
VERSION:2.0
PRODID:-//Proline Archery Lanes - ECPv6.15.20//NONSGML v1.0//EN
CALSCALE:GREGORIAN
METHOD:PUBLISH
X-WR-CALNAME:Proline Archery Lanes
X-ORIGINAL-URL:https://prolinearchery.com
X-WR-CALDESC:Events for Proline Archery Lanes
REFRESH-INTERVAL;VALUE=DURATION:PT1H
X-Robots-Tag:noindex
X-PUBLISHED-TTL:PT1H
BEGIN:VTIMEZONE
TZID:America/New_York
BEGIN:DAYLIGHT
TZOFFSETFROM:-0500
TZOFFSETTO:-0400
TZNAME:EDT
DTSTART:20220313T070000
END:DAYLIGHT
BEGIN:STANDARD
TZOFFSETFROM:-0400
TZOFFSETTO:-0500
TZNAME:EST
DTSTART:20221106T060000
END:STANDARD
BEGIN:DAYLIGHT
TZOFFSETFROM:-0500
TZOFFSETTO:-0400
TZNAME:EDT
DTSTART:20230312T070000
END:DAYLIGHT
BEGIN:STANDARD
TZOFFSETFROM:-0400
TZOFFSETTO:-0500
TZNAME:EST
DTSTART:20231105T060000
END:STANDARD
BEGIN:DAYLIGHT
TZOFFSETFROM:-0500
TZOFFSETTO:-0400
TZNAME:EDT
DTSTART:20240310T070000
END:DAYLIGHT
BEGIN:STANDARD
TZOFFSETFROM:-0400
TZOFFSETTO:-0500
TZNAME:EST
DTSTART:20241103T060000
END:STANDARD
END:VTIMEZONE
BEGIN:VEVENT
DTSTART;TZID=America/New_York:20230801T200000
DTEND;TZID=America/New_York:20230801T220000
DTSTAMP:20260423T000903
CREATED:20230729T175755Z
LAST-MODIFIED:20230729T180958Z
UID:10000004-1690920000-1690927200@prolinearchery.com
SUMMARY:Hunter League
DESCRIPTION:
URL:https://prolinearchery.com/event/hunter-league/
LOCATION:ProLine Archery Range\, 95-11 101 Ave\, Ozone Park\, NY\, 11416\, United States
CATEGORIES:Hunter League
END:VEVENT
BEGIN:VEVENT
DTSTART;TZID=America/New_York:20230808T200000
DTEND;TZID=America/New_York:20230808T220000
DTSTAMP:20260423T000903
CREATED:20230729T180624Z
LAST-MODIFIED:20230729T180737Z
UID:10000005-1691524800-1691532000@prolinearchery.com
SUMMARY:Hunter League
DESCRIPTION:
URL:https://prolinearchery.com/event/hunter-league-2/
LOCATION:ProLine Archery Range\, 95-11 101 Ave\, Ozone Park\, NY\, 11416\, United States
CATEGORIES:Hunter League
END:VEVENT
BEGIN:VEVENT
DTSTART;TZID=America/New_York:20230815T200000
DTEND;TZID=America/New_York:20230815T220000
DTSTAMP:20260423T000903
CREATED:20230729T180635Z
LAST-MODIFIED:20230729T180733Z
UID:10000006-1692129600-1692136800@prolinearchery.com
SUMMARY:Hunter League
DESCRIPTION:
URL:https://prolinearchery.com/event/hunter-league-3/
LOCATION:ProLine Archery Range\, 95-11 101 Ave\, Ozone Park\, NY\, 11416\, United States
CATEGORIES:Hunter League
END:VEVENT
BEGIN:VEVENT
DTSTART;TZID=America/New_York:20230822T200000
DTEND;TZID=America/New_York:20230822T220000
DTSTAMP:20260423T000903
CREATED:20230729T180704Z
LAST-MODIFIED:20230729T180723Z
UID:10000007-1692734400-1692741600@prolinearchery.com
SUMMARY:Hunter League
DESCRIPTION:
URL:https://prolinearchery.com/event/hunter-league-4/
LOCATION:ProLine Archery Range\, 95-11 101 Ave\, Ozone Park\, NY\, 11416\, United States
CATEGORIES:Hunter League
END:VEVENT
BEGIN:VEVENT
DTSTART;TZID=America/New_York:20230829T200000
DTEND;TZID=America/New_York:20230829T220000
DTSTAMP:20260423T000903
CREATED:20230729T180727Z
LAST-MODIFIED:20230729T180727Z
UID:10000008-1693339200-1693346400@prolinearchery.com
SUMMARY:Hunter League
DESCRIPTION:
URL:https://prolinearchery.com/event/hunter-league-5/
LOCATION:ProLine Archery Range\, 95-11 101 Ave\, Ozone Park\, NY\, 11416\, United States
CATEGORIES:Hunter League
END:VEVENT
END:VCALENDAR